BEGIN:VCALENDAR
VERSION:2.0
PRODID:-//Narre Warren &amp; District Family History Group Inc. - ECPv6.15.20//NONSGML v1.0//EN
CALSCALE:GREGORIAN
METHOD:PUBLISH
X-ORIGINAL-URL:http://nwfhg.org.au
X-WR-CALDESC:Events for Narre Warren &amp; District Family History Group Inc.
REFRESH-INTERVAL;VALUE=DURATION:PT1H
X-Robots-Tag:noindex
X-PUBLISHED-TTL:PT1H
BEGIN:VTIMEZONE
TZID:Australia/Melbourne
BEGIN:STANDARD
TZOFFSETFROM:+1100
TZOFFSETTO:+1000
TZNAME:AEST
DTSTART:20250405T160000
END:STANDARD
BEGIN:DAYLIGHT
TZOFFSETFROM:+1000
TZOFFSETTO:+1100
TZNAME:AEDT
DTSTART:20251004T160000
END:DAYLIGHT
BEGIN:STANDARD
TZOFFSETFROM:+1100
TZOFFSETTO:+1000
TZNAME:AEST
DTSTART:20260404T160000
END:STANDARD
BEGIN:DAYLIGHT
TZOFFSETFROM:+1000
TZOFFSETTO:+1100
TZNAME:AEDT
DTSTART:20261003T160000
END:DAYLIGHT
BEGIN:STANDARD
TZOFFSETFROM:+1100
TZOFFSETTO:+1000
TZNAME:AEST
DTSTART:20270403T160000
END:STANDARD
BEGIN:DAYLIGHT
TZOFFSETFROM:+1000
TZOFFSETTO:+1100
TZNAME:AEDT
DTSTART:20271002T160000
END:DAYLIGHT
END:VTIMEZONE
BEGIN:VEVENT
DTSTART;TZID=Australia/Melbourne:20260218T193000
DTEND;TZID=Australia/Melbourne:20260218T220000
DTSTAMP:20260421T070401
CREATED:20260130T085045Z
LAST-MODIFIED:20260130T085045Z
UID:5730-1771443000-1771452000@nwfhg.org.au
SUMMARY:February general meeting
DESCRIPTION:Unlock your surname – presented by Penny Harris Jennings. \nProving the origin of your surname may help you to find further ancestors. How to know facts from hearsay regarding your name and the surnames of your forebears. \nPenny’s presentation will commence at 7.30 pm after which there will be short break for tea and coffee before the business part of the meeting. \nVisitors are always welcome.
URL:http://nwfhg.org.au/event/february-general-meeting/
LOCATION:Lorraine Taylor Research Room\, 110 High Street\, Berwick\, Victoria\, 3806\, Australia
ORGANIZER;CN="Eileen":MAILTO:secretary@nwfhg.org.au
END:VEVENT
END:VCALENDAR