BEGIN:VCALENDAR
VERSION:2.0
PRODID:-//Narre Warren &amp; District Family History Group Inc. - ECPv6.15.20//NONSGML v1.0//EN
CALSCALE:GREGORIAN
METHOD:PUBLISH
X-ORIGINAL-URL:http://nwfhg.org.au
X-WR-CALDESC:Events for Narre Warren &amp; District Family History Group Inc.
REFRESH-INTERVAL;VALUE=DURATION:PT1H
X-Robots-Tag:noindex
X-PUBLISHED-TTL:PT1H
BEGIN:VTIMEZONE
TZID:Australia/Melbourne
BEGIN:STANDARD
TZOFFSETFROM:+1100
TZOFFSETTO:+1000
TZNAME:AEST
DTSTART:20250405T160000
END:STANDARD
BEGIN:DAYLIGHT
TZOFFSETFROM:+1000
TZOFFSETTO:+1100
TZNAME:AEDT
DTSTART:20251004T160000
END:DAYLIGHT
BEGIN:STANDARD
TZOFFSETFROM:+1100
TZOFFSETTO:+1000
TZNAME:AEST
DTSTART:20260404T160000
END:STANDARD
BEGIN:DAYLIGHT
TZOFFSETFROM:+1000
TZOFFSETTO:+1100
TZNAME:AEDT
DTSTART:20261003T160000
END:DAYLIGHT
BEGIN:STANDARD
TZOFFSETFROM:+1100
TZOFFSETTO:+1000
TZNAME:AEST
DTSTART:20270403T160000
END:STANDARD
BEGIN:DAYLIGHT
TZOFFSETFROM:+1000
TZOFFSETTO:+1100
TZNAME:AEDT
DTSTART:20271002T160000
END:DAYLIGHT
END:VTIMEZONE
BEGIN:VEVENT
DTSTART;TZID=Australia/Melbourne:20260516T140000
DTEND;TZID=Australia/Melbourne:20260516T170000
DTSTAMP:20260421T085550
CREATED:20260419T093615Z
LAST-MODIFIED:20260419T093615Z
UID:5764-1778940000-1778950800@nwfhg.org.au
SUMMARY:May general meeting
DESCRIPTION:In May we celebrate the women in our families. Please bring along a photo\, a story or maybe an item\nbelonging to a female relative and share a few words about what makes that woman memorable. \nVisitors are always welcome\, no need to book. \nPlease note that meetings have changed to our winter timetable (May\, June\, July\, August & September) being the 3rd Saturday of the month.
URL:http://nwfhg.org.au/event/may-general-meeting/
LOCATION:Lorraine Taylor Research Room\, 110 High Street\, Berwick\, Victoria\, 3806\, Australia
CATEGORIES:NW&DFHG General Meeting
ORGANIZER;CN="Eileen":MAILTO:secretary@nwfhg.org.au
END:VEVENT
END:VCALENDAR