BEGIN:VCALENDAR
VERSION:2.0
PRODID:-//Narre Warren &amp; District Family History Group Inc. - ECPv6.15.20//NONSGML v1.0//EN
CALSCALE:GREGORIAN
METHOD:PUBLISH
X-ORIGINAL-URL:http://nwfhg.org.au
X-WR-CALDESC:Events for Narre Warren &amp; District Family History Group Inc.
REFRESH-INTERVAL;VALUE=DURATION:PT1H
X-Robots-Tag:noindex
X-PUBLISHED-TTL:PT1H
BEGIN:VTIMEZONE
TZID:Australia/Melbourne
BEGIN:STANDARD
TZOFFSETFROM:+1100
TZOFFSETTO:+1000
TZNAME:AEST
DTSTART:20240406T160000
END:STANDARD
BEGIN:DAYLIGHT
TZOFFSETFROM:+1000
TZOFFSETTO:+1100
TZNAME:AEDT
DTSTART:20241005T160000
END:DAYLIGHT
BEGIN:STANDARD
TZOFFSETFROM:+1100
TZOFFSETTO:+1000
TZNAME:AEST
DTSTART:20250405T160000
END:STANDARD
BEGIN:DAYLIGHT
TZOFFSETFROM:+1000
TZOFFSETTO:+1100
TZNAME:AEDT
DTSTART:20251004T160000
END:DAYLIGHT
BEGIN:STANDARD
TZOFFSETFROM:+1100
TZOFFSETTO:+1000
TZNAME:AEST
DTSTART:20260404T160000
END:STANDARD
BEGIN:DAYLIGHT
TZOFFSETFROM:+1000
TZOFFSETTO:+1100
TZNAME:AEDT
DTSTART:20261003T160000
END:DAYLIGHT
BEGIN:STANDARD
TZOFFSETFROM:+1100
TZOFFSETTO:+1000
TZNAME:AEST
DTSTART:20270403T160000
END:STANDARD
BEGIN:DAYLIGHT
TZOFFSETFROM:+1000
TZOFFSETTO:+1100
TZNAME:AEDT
DTSTART:20271002T160000
END:DAYLIGHT
END:VTIMEZONE
BEGIN:VEVENT
DTSTART;TZID=Australia/Melbourne:20260415T193000
DTEND;TZID=Australia/Melbourne:20260415T220000
DTSTAMP:20260421T031646
CREATED:20260320T065543Z
LAST-MODIFIED:20260320T065543Z
UID:5758-1776281400-1776290400@nwfhg.org.au
SUMMARY:April general meeting
DESCRIPTION:When Helen comport learnt how touched an injured soldier was by the warmth of the quilt he was awarded by American Quilters she was inspired to establish an Australian organisation to do the same for wounded ADF personnel..\nThrough consultation and support from the Victorian Quilters Guild and the Berwick RSL sub-branch\, the first meeting took place in February 2012. From there it has spread to every\nstate and territory of Australia. The quilts are such a powerful symbol in a traumatic time. \nHelen’s presentation will commence at 7.30 pm\, followed by a short break and our business meeting. \nVisitors are always welcome.
URL:http://nwfhg.org.au/event/april-general-meeting/
LOCATION:Lorraine Taylor Research Room\, 110 High Street\, Berwick\, Victoria\, 3806\, Australia
ORGANIZER;CN="Eileen":MAILTO:secretary@nwfhg.org.au
END:VEVENT
BEGIN:VEVENT
DTSTART;TZID=Australia/Melbourne:20260318T193000
DTEND;TZID=Australia/Melbourne:20260318T220000
DTSTAMP:20260421T031646
CREATED:20260222T080512Z
LAST-MODIFIED:20260222T081502Z
UID:5736-1773862200-1773871200@nwfhg.org.au
SUMMARY:March general meeting
DESCRIPTION:Our guest speaker is Alan Fleming from FamilySearch who is going to show us how the Full-Text Search tool from FamilySearch will transform our family history research. \nFamilySearch’s Full-Text Search is a tool that lets you search almost 2 billion historical records that haven’t been indexed yet. It uses AI to read and interpret text directly from document images. Available collections include nearly every type of historical record imaginable\, from church registers and court documents to military files\, newspapers\, personal letters\, land deeds\, and more. \nThe regular search looks at data that has been transcribed and indexed. In many projects\, this might be just a small portion of the document—often just a name and date. Full-Text Search\, by contrast\, scans the entire document. It lets you search the full sentences and paragraphs that usually go untouched in a regular indexing project. \nAlan’s presentation will commence at 7.30 pm followed by a short break and the business part of our meeting. Visitors are always welcome.
URL:http://nwfhg.org.au/event/march-general-meeting/
LOCATION:Lorraine Taylor Research Room\, 110 High Street\, Berwick\, Victoria\, 3806\, Australia
CATEGORIES:NW&DFHG General Meeting
ORGANIZER;CN="Eileen":MAILTO:secretary@nwfhg.org.au
END:VEVENT
BEGIN:VEVENT
DTSTART;TZID=Australia/Melbourne:20260218T193000
DTEND;TZID=Australia/Melbourne:20260218T220000
DTSTAMP:20260421T031646
CREATED:20260130T085045Z
LAST-MODIFIED:20260130T085045Z
UID:5730-1771443000-1771452000@nwfhg.org.au
SUMMARY:February general meeting
DESCRIPTION:Unlock your surname – presented by Penny Harris Jennings. \nProving the origin of your surname may help you to find further ancestors. How to know facts from hearsay regarding your name and the surnames of your forebears. \nPenny’s presentation will commence at 7.30 pm after which there will be short break for tea and coffee before the business part of the meeting. \nVisitors are always welcome.
URL:http://nwfhg.org.au/event/february-general-meeting/
LOCATION:Lorraine Taylor Research Room\, 110 High Street\, Berwick\, Victoria\, 3806\, Australia
ORGANIZER;CN="Eileen":MAILTO:secretary@nwfhg.org.au
END:VEVENT
BEGIN:VEVENT
DTSTART;TZID=Australia/Melbourne:20251217T193000
DTEND;TZID=Australia/Melbourne:20251217T220000
DTSTAMP:20260421T031646
CREATED:20251208T230106Z
LAST-MODIFIED:20251208T230106Z
UID:5716-1765999800-1766008800@nwfhg.org.au
SUMMARY:December general meeting
DESCRIPTION:Our last meeting for 2025 will be our Christmas Trivia Night. We’d love you to wear something Christmassy and bring a small plate of something to share with others during the break. \nVisitors are always welcome.
URL:http://nwfhg.org.au/event/december-general-meeting/
LOCATION:Lorraine Taylor Research Room\, 110 High Street\, Berwick\, Victoria\, 3806\, Australia
ORGANIZER;CN="Eileen":MAILTO:secretary@nwfhg.org.au
END:VEVENT
END:VCALENDAR