BEGIN:VCALENDAR
VERSION:2.0
PRODID:-//Narre Warren &amp; District Family History Group Inc. - ECPv4.6.11.1//NONSGML v1.0//EN
CALSCALE:GREGORIAN
METHOD:PUBLISH
X-WR-CALNAME:Narre Warren &amp; District Family History Group Inc.
X-ORIGINAL-URL:http://nwfhg.org.au
X-WR-CALDESC:Events for Narre Warren &amp; District Family History Group Inc.
BEGIN:VEVENT
DTSTART;TZID=Australia/Melbourne:20180214T193000
DTEND;TZID=Australia/Melbourne:20180214T193000
DTSTAMP:20180225T073946
CREATED:20180102T235205Z
LAST-MODIFIED:20180102T235205Z
UID:3173-1518636600-1518636600@nwfhg.org.au
SUMMARY:NW&DFHG February Meeting
DESCRIPTION:A century after the guns fell silent Pakenham’s WWI volunteers\, 1914-18 \nOur guest speaker for February is Patrick Ferry who is in the process of writing a book on  Pakenham’s WW1 volunteers. Patrick will give a talk about some of the really interesting characters from his research. He will also talk a little about the St Patrick’s Primary School connection via it’s honour board\, but will leave the wider history for a later talk. \n
URL:http://nwfhg.org.au/event/nwdfhg-february-meeting-2/
LOCATION:65 Berwick Cranbourne Rd.\, Cranbourne\, Vic\, Australia
END:VEVENT
END:VCALENDAR